﻿
BEGIN:VCALENDAR
VERSION:2.0
PRODID:-//Some Like It Hot - Kurse für Lindy Hop, Charleston, Balboa, Shag und Jazz-Tanz - ECPv6.14.2//NONSGML v1.0//EN
CALSCALE:GREGORIAN
METHOD:PUBLISH
X-ORIGINAL-URL:https://somelikeithot.at
X-WR-CALDESC:Veranstaltungen für Some Like It Hot - Kurse für Lindy Hop, Charleston, Balboa, Shag und Jazz-Tanz
REFRESH-INTERVAL;VALUE=DURATION:PT1H
X-Robots-Tag:noindex
X-PUBLISHED-TTL:PT1H
BEGIN:VTIMEZONE
TZID:Europe/Vienna
BEGIN:DAYLIGHT
TZOFFSETFROM:+0100
TZOFFSETTO:+0200
TZNAME:CEST
DTSTART:20260329T010000
END:DAYLIGHT
BEGIN:STANDARD
TZOFFSETFROM:+0200
TZOFFSETTO:+0100
TZNAME:CET
DTSTART:20261025T010000
END:STANDARD
END:VTIMEZONE
BEGIN:VEVENT
DTSTART;TZID=Europe/Vienna:20260905T140000
DTEND;TZID=Europe/Vienna:20260905T200000
DTSTAMP:20260420T120305
CREATED:20260121T144005Z
LAST-MODIFIED:20260121T144005Z
UID:27176-1788616800-1788638400@somelikeithot.at
SUMMARY:Tag der offenen Tür
DESCRIPTION:Bei unserem Tag der offenen Tür kannst du in unserem Ballroom kostenlos verschiedene Swingtänze ausprobieren. Keine Anmeldung und keine Tanzvorkenntnisse nötig. Teilnahme ohne eigene:n Partner:in möglich – beim Tanzen werden Partner:innen gewechselt. \nProgramm\nDu wirst voraussichtlich Solo Charleston\, Lindy Hop\, Balboa\, Solo Jazz\, Collegiate Shag und Swing Tap probieren können. Der genau Zeitplan wird im Laufe des Sommers an dieser Stelle veröffentlicht. Start wird wahrscheinlich 14 oder 15 Uhr sein. \nWir empfehlen bequeme Freizeitkleidung und (bitte saubere) Schuhe mit rutschigen Sohlen. Flache Absätze sind vorteilhaft (außer bei Balboa\, wo Follower auch gut mit hohen Absätzen tanzen können).\nVor Ort stehen die Trainer:innen und das Organisationsteam für Fragen zur Verfügung. Mitte Februar starten dann unsere Semesterkurse. \nOrt: Unser Vereinslokal ist der SLIH Ballroom in der Sechshauser Str. 9 im 15. Bezirk. Läute bei Tanzschule\, mach die Tür auf und geh im Haus die Stiegen runtern\, dann bist du schon bei uns. Dort gibt es zwei Säle: Den großen Ballroom und das kleinere Studio.
URL:https://somelikeithot.at/eventsingle/tag-der-offenen-tuer-3/
LOCATION:Some Like It Hot Ballroom\, Sechshauser Straße 9\, Wien\, Wien\, 1150\, Österreich
END:VEVENT
BEGIN:VEVENT
DTSTART;TZID=Europe/Vienna:20260925T183000
DTEND;TZID=Europe/Vienna:20260925T235500
DTSTAMP:20260420T120305
CREATED:20250908T112640Z
LAST-MODIFIED:20260414T123351Z
UID:25570-1790361000-1790380500@somelikeithot.at
SUMMARY:Swing in the City
DESCRIPTION:Swing in the City ist das Fix-Event im Ballsaal Wien (Kundmanngasse 30 im 3. Bezirk) für die Wiener Swing Dance Community.\nOb Lindy\, Shag\, Balboa oder Charleston – bei Swing in the City finden alle ihren Lieblingsstyle. \nJeden letzten bzw. vierten Freitag im Monat. Powered by Tanzschule Kraml in Kooperation mit Some Like It Hot! \n18.30 Einlass19.00 Schnupperstunde 20.00 Social bis 0.00 \nTickets um € 10 hier vorbestellen.\nEs gibt auch Karten an der Abendkassa.\nDer Ballsaal am Rochusplatz akzeptiert nur mehr Kartenzahlung – sowohl bei Rezeption\, Garderobe als auch der Bar.\nInfo für spät kommende Gäste: Der Eintrittspreis wird bei allen Veranstaltungen im Ballsaal auch kurz vor Ende des Events noch kassiert.
URL:https://somelikeithot.at/eventsingle/swing-in-the-city-10/
LOCATION:Ballsaal Wien\, Kundmanngasse 30\, Wien\, Wien\, 1030\, Österreich
ATTACH;FMTTYPE=image/png:https://somelikeithot.at/wp-content/uploads/2024/01/swing-in-the-city-mit-ballsaal_logo.png
END:VEVENT
BEGIN:VEVENT
DTSTART;TZID=Europe/Vienna:20261003T203000
DTEND;TZID=Europe/Vienna:20261004T010000
DTSTAMP:20260420T120305
CREATED:20250908T111417Z
LAST-MODIFIED:20251025T111244Z
UID:25558-1791059400-1791075600@somelikeithot.at
SUMMARY:Rockstep
DESCRIPTION:Vienna’s longest running Swing dance social @ Aera (downstairs)\nEintritt freie Spende.
URL:https://somelikeithot.at/eventsingle/rockstep-3/
LOCATION:Aera\, Gonzagagasse 11\, Wien\, Wien\, 1010
ATTACH;FMTTYPE=image/jpeg:https://somelikeithot.at/wp-content/uploads/2023/01/rockstep_banner_n.jpg
END:VEVENT
BEGIN:VEVENT
DTSTART;TZID=Europe/Vienna:20261023T190000
DTEND;TZID=Europe/Vienna:20261023T235500
DTSTAMP:20260420T120305
CREATED:20250908T112634Z
LAST-MODIFIED:20260414T123345Z
UID:25568-1792782000-1792799700@somelikeithot.at
SUMMARY:Swing in the City
DESCRIPTION:Swing in the City ist das Fix-Event im Ballsaal Wien (Kundmanngasse 30 im 3. Bezirk) für die Wiener Swing Dance Community.\nOb Lindy\, Shag\, Balboa oder Charleston – bei Swing in the City finden alle ihren Lieblingsstyle. \nJeden letzten bzw. vierten Freitag im Monat. Powered by Tanzschule Kraml in Kooperation mit Some Like It Hot! \n18.30 Einlass\n19.00 Schnupperstunde 20.00 Social bis 0.00 \nTickets um € 10 hier vorbestellen.\nEs gibt auch Karten an der Abendkassa.\nDer Ballsaal am Rochusplatz akzeptiert nur mehr Kartenzahlung – sowohl bei Rezeption\, Garderobe als auch der Bar.\nInfo für spät kommende Gäste: Der Eintrittspreis wird bei allen Veranstaltungen im Ballsaal auch kurz vor Ende des Events noch kassiert.
URL:https://somelikeithot.at/eventsingle/swing-in-the-city-8/
LOCATION:Ballsaal Wien\, Kundmanngasse 30\, Wien\, Wien\, 1030\, Österreich
ATTACH;FMTTYPE=image/png:https://somelikeithot.at/wp-content/uploads/2024/01/swing-in-the-city-mit-ballsaal_logo.png
END:VEVENT
BEGIN:VEVENT
DTSTART;TZID=Europe/Vienna:20261107T203000
DTEND;TZID=Europe/Vienna:20261108T010000
DTSTAMP:20260420T120305
CREATED:20250908T111420Z
LAST-MODIFIED:20251025T111250Z
UID:25559-1794083400-1794099600@somelikeithot.at
SUMMARY:Rockstep
DESCRIPTION:Vienna’s longest running Swing dance social @ Aera (downstairs)\nEintritt freie Spende.
URL:https://somelikeithot.at/eventsingle/rockstep-7/
LOCATION:Aera\, Gonzagagasse 11\, Wien\, Wien\, 1010
ATTACH;FMTTYPE=image/jpeg:https://somelikeithot.at/wp-content/uploads/2023/01/rockstep_banner_n.jpg
END:VEVENT
BEGIN:VEVENT
DTSTART;TZID=Europe/Vienna:20261127T190000
DTEND;TZID=Europe/Vienna:20261127T235500
DTSTAMP:20260420T120305
CREATED:20250908T112637Z
LAST-MODIFIED:20260414T123514Z
UID:25569-1795806000-1795823700@somelikeithot.at
SUMMARY:Swing in the City
DESCRIPTION:Swing in the City ist das Fix-Event im Ballsaal Wien (Kundmanngasse 30 im 3. Bezirk) für die Wiener Swing Dance Community.\nOb Lindy\, Shag\, Balboa oder Charleston – bei Swing in the City finden alle ihren Lieblingsstyle. \nJeden letzten bzw. vierten Freitag im Monat. Powered by Tanzschule Kraml in Kooperation mit Some Like It Hot! \n19.00 Einlass\n19.00 Schnupperstunde 20.00 Social bis 0.00 \nTickets um € 10 hier vorbestellen.\nEs gibt auch Karten an der Abendkassa.\nDer Ballsaal am Rochusplatz akzeptiert nur Kartenzahlung – sowohl bei Rezeption\, Garderobe als auch der Bar.\nInfo für spät kommende Gäste: Der Eintrittspreis wird bei allen Veranstaltungen im Ballsaal auch kurz vor Ende des Events noch kassiert.
URL:https://somelikeithot.at/eventsingle/swing-in-the-city-9/
LOCATION:Ballsaal Wien\, Kundmanngasse 30\, Wien\, Wien\, 1030\, Österreich
ATTACH;FMTTYPE=image/png:https://somelikeithot.at/wp-content/uploads/2024/01/swing-in-the-city-mit-ballsaal_logo.png
END:VEVENT
BEGIN:VEVENT
DTSTART;TZID=Europe/Vienna:20261212T203000
DTEND;TZID=Europe/Vienna:20261213T010000
DTSTAMP:20260420T120305
CREATED:20250908T111422Z
LAST-MODIFIED:20251025T111255Z
UID:25560-1797107400-1797123600@somelikeithot.at
SUMMARY:Rockstep
DESCRIPTION:Vienna’s longest running Swing dance social @ Aera (downstairs)\nEintritt freie Spende.
URL:https://somelikeithot.at/eventsingle/rockstep-12/
LOCATION:Aera\, Gonzagagasse 11\, Wien\, Wien\, 1010
ATTACH;FMTTYPE=image/jpeg:https://somelikeithot.at/wp-content/uploads/2023/01/rockstep_banner_n.jpg
END:VEVENT
END:VCALENDAR